BEGIN:VCALENDAR
VERSION:2.0
PRODID:-//GoTeamXD - ECPv6.15.20//NONSGML v1.0//EN
CALSCALE:GREGORIAN
METHOD:PUBLISH
X-WR-CALNAME:GoTeamXD
X-ORIGINAL-URL:https://goteamxd.com
X-WR-CALDESC:Events for GoTeamXD
REFRESH-INTERVAL;VALUE=DURATION:PT1H
X-Robots-Tag:noindex
X-PUBLISHED-TTL:PT1H
BEGIN:VTIMEZONE
TZID:UTC
BEGIN:STANDARD
TZOFFSETFROM:+0000
TZOFFSETTO:+0000
TZNAME:UTC
DTSTART:20220101T000000
END:STANDARD
END:VTIMEZONE
BEGIN:VEVENT
DTSTART;TZID=UTC:20230924T120000
DTEND;TZID=UTC:20230924T180000
DTSTAMP:20260423T085913
CREATED:20230719T150720Z
LAST-MODIFIED:20230922T154837Z
UID:9892-1695556800-1695578400@goteamxd.com
SUMMARY:Cashflow Playoffs
DESCRIPTION:REGISTER NOW
URL:https://goteamxd.com/event/cashflow-playoffs-2/
LOCATION:Santa Flora
CATEGORIES:September 2023
ATTACH;FMTTYPE=image/png:https://goteamxd.com/wp-content/uploads/2023/07/sept-playoffs-desktop.png
END:VEVENT
END:VCALENDAR