BEGIN:VCALENDAR
VERSION:2.0
PRODID:-//GoTeamXD - ECPv6.15.20//NONSGML v1.0//EN
CALSCALE:GREGORIAN
METHOD:PUBLISH
X-WR-CALNAME:GoTeamXD
X-ORIGINAL-URL:https://goteamxd.com
X-WR-CALDESC:Events for GoTeamXD
REFRESH-INTERVAL;VALUE=DURATION:PT1H
X-Robots-Tag:noindex
X-PUBLISHED-TTL:PT1H
BEGIN:VTIMEZONE
TZID:UTC
BEGIN:STANDARD
TZOFFSETFROM:+0000
TZOFFSETTO:+0000
TZNAME:UTC
DTSTART:20230101T000000
END:STANDARD
END:VTIMEZONE
BEGIN:VEVENT
DTSTART;TZID=UTC:20241130T100000
DTEND;TZID=UTC:20241130T160000
DTSTAMP:20260420T224429
CREATED:20240530T170733Z
LAST-MODIFIED:20240530T170733Z
UID:10872-1732960800-1732982400@goteamxd.com
SUMMARY:Christmas Cashflow
DESCRIPTION:CASHFLOW & SECRET SANTA! \nThis coming November\, our Cashflow session will feature a special twist: a Secret Santa gift exchange! Get ready to add some festive fun to our financial learning experience. \nStay tuned for further details to be posted soon.
URL:https://goteamxd.com/event/christmas-cashflow/
LOCATION:Billionaire Club Port of Spain
CATEGORIES:November 2024
ATTACH;FMTTYPE=image/jpeg:https://goteamxd.com/wp-content/uploads/2024/05/TeamXD-Events-Square-Desktop-Wallpaper.jpg
END:VEVENT
END:VCALENDAR