BEGIN:VCALENDAR
VERSION:2.0
PRODID:-//GoTeamXD - ECPv6.15.20//NONSGML v1.0//EN
CALSCALE:GREGORIAN
METHOD:PUBLISH
X-WR-CALNAME:GoTeamXD
X-ORIGINAL-URL:https://goteamxd.com
X-WR-CALDESC:Events for GoTeamXD
REFRESH-INTERVAL;VALUE=DURATION:PT1H
X-Robots-Tag:noindex
X-PUBLISHED-TTL:PT1H
BEGIN:VTIMEZONE
TZID:UTC
BEGIN:STANDARD
TZOFFSETFROM:+0000
TZOFFSETTO:+0000
TZNAME:UTC
DTSTART:20230101T000000
END:STANDARD
END:VTIMEZONE
BEGIN:VEVENT
DTSTART;TZID=UTC:20240525T100000
DTEND;TZID=UTC:20240525T160000
DTSTAMP:20260422T210650
CREATED:20240425T171611Z
LAST-MODIFIED:20240501T162601Z
UID:10695-1716631200-1716652800@goteamxd.com
SUMMARY:Cashflow Meetup - Meetup
DESCRIPTION:REGISTER NOW
URL:https://goteamxd.com/event/cashflow-meetup-meetup/
LOCATION:Billionaire Club Port of Spain
CATEGORIES:May 2024
ATTACH;FMTTYPE=image/png:https://goteamxd.com/wp-content/uploads/2024/04/TeamXD-Events-desktop-3.png
END:VEVENT
END:VCALENDAR