BEGIN:VCALENDAR
VERSION:2.0
PRODID:-//GoTeamXD - ECPv6.15.20//NONSGML v1.0//EN
CALSCALE:GREGORIAN
METHOD:PUBLISH
X-ORIGINAL-URL:https://goteamxd.com
X-WR-CALDESC:Events for GoTeamXD
REFRESH-INTERVAL;VALUE=DURATION:PT1H
X-Robots-Tag:noindex
X-PUBLISHED-TTL:PT1H
BEGIN:VTIMEZONE
TZID:UTC
BEGIN:STANDARD
TZOFFSETFROM:+0000
TZOFFSETTO:+0000
TZNAME:UTC
DTSTART:20230101T000000
END:STANDARD
END:VTIMEZONE
BEGIN:VEVENT
DTSTART;TZID=UTC:20240511T060000
DTEND;TZID=UTC:20240511T230000
DTSTAMP:20260422T223103
CREATED:20240415T183417Z
LAST-MODIFIED:20240417T135544Z
UID:10484-1715407200-1715468400@goteamxd.com
SUMMARY:TeamXD Hike
DESCRIPTION:REGISTER NOW
URL:https://goteamxd.com/event/teamxd-hike/
LOCATION:Aripo Blue Basins\, Trinidad and Tobago
CATEGORIES:May 2024
ATTACH;FMTTYPE=image/png:https://goteamxd.com/wp-content/uploads/2024/04/TeamXD-Events-desktop-2.png
END:VEVENT
END:VCALENDAR